BEGIN:VCALENDAR
VERSION:2.0
PRODID:-//wp-events-plugin.com//7.2.3.1//EN
TZID:Europe/Berlin
X-WR-TIMEZONE:Europe/Berlin
BEGIN:VEVENT
UID:9@saechsischer-fluechtlingsrat.de
DTSTART;TZID=Europe/Berlin:20160914T235900
DTEND;TZID=Europe/Berlin:20160914T235900
DTSTAMP:20230503T150543Z
URL:https://www.saechsischer-fluechtlingsrat.de/events/25-jahre-saechsisch
 er-fluechtlingsrat/
SUMMARY:25 Jahre Sächsischer Flüchtlingsrat
DESCRIPTION:
CATEGORIES:Veranstaltung
END:VEVENT
BEGIN:VTIMEZONE
TZID:Europe/Berlin
X-LIC-LOCATION:Europe/Berlin
BEGIN:DAYLIGHT
DTSTART:20160327T030000
TZOFFSETFROM:+0100
TZOFFSETTO:+0200
TZNAME:CEST
END:DAYLIGHT
END:VTIMEZONE
END:VCALENDAR