BEGIN:VCALENDAR
VERSION:2.0
PRODID:-//wp-events-plugin.com//7.2.3.1//EN
TZID:Europe/Berlin
X-WR-TIMEZONE:Europe/Berlin
BEGIN:VEVENT
UID:238@saechsischer-fluechtlingsrat.de
DTSTART;TZID=Europe/Berlin:20251208T181500
DTEND;TZID=Europe/Berlin:20251208T194500
DTSTAMP:20251113T135658Z
URL:https://www.saechsischer-fluechtlingsrat.de/events/aktuelle-informatio
 nen-fuer-menschen-aus-der-ukraine-5-2/
SUMMARY:Aktuelle Informationen für Menschen aus der Ukraine
DESCRIPTION:Aktuelle Informationen für Menschen aus der Ukraine\nSie sind 
 aus der Ukraine geflüchtet\, besitzen eine Aufenthaltserlaubnis nach § 2
 4 AufenthG und möchten gerne wissen\, wie es weitergeht und welche Mögli
 chkeiten Sie nun haben? Kommen Sie gerne in unsere Schulung zur aktuellen 
 Rechtslage für Menschen\, die vom Krieg in der Ukraine geflohen sind.\nWi
 r werden in der Schulung besprechen\, für wie lange Ihre Aufenthaltserlau
 bnis verlängert wird und welche weitere Aufenthaltserlaubnis Sie noch bea
 ntragen können.\nDie Schulung richtet sich insbesondere an geflüchtete M
 enschen. Die Teilnahme ist kostenlos. Keine Anmeldung notwendig. \nSprache
  der Veranstaltung: Russisch\n\nDatum: 08.12.2025\nUhrzeit: 18:15 - 19:45 
 Uhr\nOrt: Hillersche Villa - Jolesch\nKlienebergerplatz 1\n02763 Zittau\nD
 ie Schulung wird im Rahmen des Projektes "Meine Rechte. Meine Perspektiven
  – Empowerment-Projekt für Drittstaatsangehörige in Sachsen" organisie
 rt. Diese Maßnahme wird mitfinanziert mit Steuermitteln auf Grundlage des
  vom Sächsischen Landtag beschlossenen Haushaltes sowie mit Mitteln der U
 NO Flüchtlingshilfe.\n\n\n\n\n\n\n\n\n
ATTACH;FMTTYPE=image/jpeg:https://www.saechsischer-fluechtlingsrat.de/wp-c
 ontent/uploads/2025/08/MRMP-VA_900-web.png
CATEGORIES:Meine Rechte. Meine Perspektiven
LOCATION:Hillersche Villa\, Klienebergerplatz 1 \,  Zittau\, 02763\, Deutsc
 hland
X-APPLE-STRUCTURED-LOCATION;VALUE=URI;X-ADDRESS=Klienebergerplatz 1 \,  Zit
 tau\, 02763\, Deutschland;X-APPLE-RADIUS=100;X-TITLE=Hillersche Villa:geo:
 0,0
END:VEVENT
BEGIN:VTIMEZONE
TZID:Europe/Berlin
X-LIC-LOCATION:Europe/Berlin
BEGIN:STANDARD
DTSTART:20251026T020000
TZOFFSETFROM:+0200
TZOFFSETTO:+0100
TZNAME:CET
END:STANDARD
END:VTIMEZONE
END:VCALENDAR