BEGIN:VCALENDAR
VERSION:2.0
PRODID:-//wp-events-plugin.com//7.2.3.1//EN
TZID:Europe/Berlin
X-WR-TIMEZONE:Europe/Berlin
BEGIN:VEVENT
UID:198@saechsischer-fluechtlingsrat.de
DTSTART;TZID=Europe/Berlin:20250423T180000
DTEND;TZID=Europe/Berlin:20250423T200000
DTSTAMP:20250407T155619Z
URL:https://www.saechsischer-fluechtlingsrat.de/events/aktuelles-ukraine/
SUMMARY:Aktuelle Informationen für Menschen aus der Ukraine
DESCRIPTION:Aktuelle Informationen für Menschen aus der Ukraine\nSie sind 
 aus der Ukraine geflüchtet\, besitzen eine Aufenthaltserlaubnis nach § 2
 4 AufenthG und möchten gerne wissen\, wie es weitergeht und welche Mögli
 chkeiten Sie nun haben? Kommen Sie gerne in unsere Schulung zur aktuellen 
 Rechtslage für Menschen\, die vom Krieg in der Ukraine geflohen sind.\nEn
 de 2024 wurde entschieden: Die Aufenthaltserlaubnisse gem. § 24 AufenthG 
 für Menschen aus der Ukraine gelten automatisch bis zum 4. März 2026 for
 t. Das betrifft jedoch die meisten Menschen ohne ukrainische Staatsangehö
 rigkeit und ohne internationalen Schutzstatus bzw. ohne unbefristetes Aufe
 nthaltsrecht in der Ukraine nicht.\nWir werden in der Schulung besprechen\
 , ob und für wie lange Ihre Aufenthaltserlaubnis verlängert wird und wel
 che weitere Aufenthaltserlaubnis Sie noch beantragen können.\nDie Schulun
 g richtet sich insbesondere an Geflüchtete. Die Teilnahme ist kostenlos.\
 n\nDatum: 23.04.2025\nUhrzeit: 18 Uhr\nOrt: Plattform Dresden e.V.\, Ukrai
 nisches Haus\, Neumarkt 2\, 01067 Dresden\nAnmeldung:hier\nDie Schulung wi
 rd im Rahmen des Projektes "Meine Rechte. Meine Perspektiven – Empowerme
 nt-Projekt für Drittstaatsangehörige in Sachsen" organisiert. Diese Maß
 nahme wird mitfinanziert mit Steuermitteln auf Grundlage des vom Sächsisc
 hen Landtag beschlossenen Haushaltes sowie mit Mitteln der UNO Flüchtling
 shilfe.\n\n\n\n\n\n\n\n\n
ATTACH;FMTTYPE=image/jpeg:https://www.saechsischer-fluechtlingsrat.de/wp-c
 ontent/uploads/2025/02/logo_weiss_auf_lila.png
CATEGORIES:Meine Rechte. Meine Perspektiven
LOCATION:Plattform e.V.\, Neumarkt 2\, Dresden\, Sachsen\, 01067 \, Deutsch
 land
X-APPLE-STRUCTURED-LOCATION;VALUE=URI;X-ADDRESS=Neumarkt 2\, Dresden\, Sach
 sen\, 01067 \, Deutschland;X-APPLE-RADIUS=100;X-TITLE=Plattform e.V.:geo:0
 ,0
END:VEVENT
BEGIN:VTIMEZONE
TZID:Europe/Berlin
X-LIC-LOCATION:Europe/Berlin
BEGIN:DAYLIGHT
DTSTART:20250330T030000
TZOFFSETFROM:+0100
TZOFFSETTO:+0200
TZNAME:CEST
END:DAYLIGHT
END:VTIMEZONE
END:VCALENDAR