BEGIN:VCALENDAR
VERSION:2.0
PRODID:-//wp-events-plugin.com//7.2.3.1//EN
TZID:Europe/Berlin
X-WR-TIMEZONE:Europe/Berlin
BEGIN:VEVENT
UID:138@saechsischer-fluechtlingsrat.de
DTSTART;TZID=Europe/Berlin:20231028T093000
DTEND;TZID=Europe/Berlin:20231028T163000
DTSTAMP:20230802T095042Z
URL:https://www.saechsischer-fluechtlingsrat.de/events/asylinitiativenkonf
 erenz-2/
SUMMARY:11. Sächsische Asylinitiativenkonferenz
DESCRIPTION:\n\n\n\n[caption id="attachment_18419" align="aligncenter" widt
 h="552"] Programmübersicht[/caption]\n\n\n[caption id="attachment_18420" 
 align="aligncenter" width="553"] Cover[/caption]\n\n\n\n\n[su_button url="
 https://www.saechsischer-fluechtlingsrat.de/wp-content/uploads/2023/07/Asy
 linikonferenz2023_web.pdf" style="flat" background="none" color="#3f9527" 
 wide="no" size="5" center="yes" icon="icon: file-pdf-o" icon_color="#3f952
 7" target="blank" class="su-button-doc"]Download Flyer [PDF 2\,1MB][/su_bu
 tton]\n[su_expand height="200" more_text="Text ausklappen" text_color="#2e
 2d30" link_color="#369933" link_style="dashed" more_icon="icon: plus" less
 _icon="icon: minus"]2022 befanden sich laut Angaben der Vereinten Nationen
  weltweit über 100 Millionen Menschen auf der Flucht. Unter anderem als F
 olge des russischen Angriffskrieges auf die Ukraine\, der die größte Flu
 chtbewegung in Europa seit dem Zweiten Weltkrieg auslöste. Im Zuge dessen
  trat auch erstmalig die Massenzustrom-Richtlinie der EU in Kraft. Währen
 d diese Ukrainer*innen Aufenthalt zusichert\, leben viele Geflüchtete and
 erer Nationen weiterhin prekär. In Deutschland wird bei der Unterbringung
  Schutzsuchender immer häufiger von stark belasteten oder sogar überlast
 eten Strukturen gesprochen. Dabei ist die Hauptursache einiger Probleme of
 fensichtlich: Migration und Flucht werden von der Politik häufig als kurz
 fristige Problemlagen gedacht. Nötige Versorgungsressourcen können oder 
 sollen nicht aufrechterhalten werden.\nWenn in Sachsen mehr Menschen ankom
 men als vermutet\, geraten Politiker*innen und Teile der Öffentlichkeit h
 äufig in Panik. Es werden dann Fragen diskutiert\, wie und manchmal sogar
  auch\, ob die Ankommenden versorgt werden können und sollen. Wiederholt 
 ist somit für die Unterstützung von Schutzsuchenden eine enorme zivilges
 ellschaftliche Kraftanstrengung notwendig. Beispiele für das hohe Potenzi
 al ehrenamtlichen Engagements der Bevölkerung zeigten sich bei den größ
 eren Fluchtbewegungen 2015 und nicht zuletzt im letzten Jahr angesichts de
 r Unterbringung von über 60.000 Geflüchteten aus der Ukraine. Jedoch neh
 men zeitgleich zu gelebter Solidarität rechte\, aggressive Mobilisierunge
 n gegen die Unterbringung von Schutzsuchenden zu\, so dass die Gefahr von 
 Übergriffen steigt. Diese komplexe Überlagerung von Herausforderungen be
 im Thema Migration und Flucht fordert die demokratische Zivilgesellschaft 
 zum konstruktiven Handeln auf und ist Anlass unserer Konferenz.\nUm in den
  Austausch zu kommen\, uns gemeinsam fortzubilden\, Herausforderungen zu d
 iskutieren sowie Lösungen zu erörtern und herauszufinden\, wo sich Syner
 gien ergeben\, laden wir zur 11. sächsischen Asylinitiativen-Konferenz ei
 n. Wir würden uns freuen\, Sie begrüßen zu dürfen!\nDiese Fragen wolle
 n wir diskutieren:\n\n	Welche asylrechtlichen Änderungen gibt es?\n	Wie k
 önnen wir langfristig menschenwürdig unterbringen?\n	Wie können neue un
 d erfahrene Strukturen zusammenwachsen?\n	Was braucht es für gelungene Zu
 sammenarbeit von migrantischen Organisationen untereinander?\n	Wie kann Un
 terstützung für Schutzsuchende gesichert werden?\n	Inwiefern hat sich di
 e Situation durch die Fluchtbewegung aus\nder Ukraine geändert?\n\nDetail
 s zum Programm und zu den Workshops entnehmen Sie bitte dem Veranstaltungs
 flyer (siehe oben).\n[/su_expand]
ATTACH;FMTTYPE=image/jpeg:https://www.saechsischer-fluechtlingsrat.de/wp-c
 ontent/uploads/2023/07/Asylinikonferenz2023_cover-web-e1690968319882.jpg
CATEGORIES:Diskussion / Workshop
LOCATION:Evangelische Hochschule Dresden\, Dürerstraße 25\, Dresden\, Sac
 hsen\, 01307\, Deutschland
X-APPLE-STRUCTURED-LOCATION;VALUE=URI;X-ADDRESS=Dürerstraße 25\, Dresden\
 , Sachsen\, 01307\, Deutschland;X-APPLE-RADIUS=100;X-TITLE=Evangelische Ho
 chschule Dresden:geo:0,0
END:VEVENT
BEGIN:VTIMEZONE
TZID:Europe/Berlin
X-LIC-LOCATION:Europe/Berlin
BEGIN:DAYLIGHT
DTSTART:20230326T030000
TZOFFSETFROM:+0100
TZOFFSETTO:+0200
TZNAME:CEST
END:DAYLIGHT
END:VTIMEZONE
END:VCALENDAR