BEGIN:VCALENDAR
VERSION:2.0
PRODID:-//wp-events-plugin.com//7.2.3.1//EN
TZID:Europe/Berlin
X-WR-TIMEZONE:Europe/Berlin
BEGIN:VEVENT
UID:225@saechsischer-fluechtlingsrat.de
DTSTART;TZID=Europe/Berlin:20250814T160000
DTEND;TZID=Europe/Berlin:20250814T180000
DTSTAMP:20250811T150559Z
URL:https://www.saechsischer-fluechtlingsrat.de/events/aufenthaltsverfesti
 gung-fuer-menschen-mit-aufenthaltserlaubnis-6/
SUMMARY:Aufenthaltsverfestigung für Menschen mit Aufenthaltserlaubnis
DESCRIPTION:Sie besitzen eine Aufenthaltserlaubnis und möchten wissen\, wi
 e Sie eine unbefristete Aufenthaltserlaubnis – die Niederlassungserlaubn
 is – erhalten oder möchten gerne im EU-Ausland arbeiten? Wir werden dar
 über sprechen\, nach wie vielen Jahren Sie diese beantragen können und w
 elche Voraussetzungen Sie dafür erfüllen müssen.\nIn der Schulung wird 
 es nicht darum gehen\, wie ein deutscher Pass beantragt werden kann.\nDatu
 m: 14.08.2025\nUhrzeit: 16:00 - 18:00\nOrt: Club Passage\, Leutewitzer Rin
 g 5\, 01169 Dresden\n\nAnmeldung: keine\nDie Schulung wird im Rahmen des P
 rojektes "Meine Rechte. Meine Perspektiven – Empowerment-Projekt für Dr
 ittstaatsangehörige in Sachsen" organisiert. Diese Maßnahme wird mitfina
 nziert mit Steuermitteln auf Grundlage des vom Sächsischen Landtag beschl
 ossenen Haushaltes sowie mit Mitteln der UNO Flüchtlingshilfe.\n\n\n\n\n\
 n\n\n\n
ATTACH;FMTTYPE=image/jpeg:https://www.saechsischer-fluechtlingsrat.de/wp-c
 ontent/uploads/2025/08/MRMP-VA_900-web.png
CATEGORIES:Meine Rechte. Meine Perspektiven,Veranstaltung
LOCATION:Club Passage\, Leutewitzer Ring 5\, Dresden-Gorbitz\, Sachsen\, 01
 169\, Deutschland
X-APPLE-STRUCTURED-LOCATION;VALUE=URI;X-ADDRESS=Leutewitzer Ring 5\, Dresde
 n-Gorbitz\, Sachsen\, 01169\, Deutschland;X-APPLE-RADIUS=100;X-TITLE=Club 
 Passage:geo:0,0
END:VEVENT
BEGIN:VTIMEZONE
TZID:Europe/Berlin
X-LIC-LOCATION:Europe/Berlin
BEGIN:DAYLIGHT
DTSTART:20250330T030000
TZOFFSETFROM:+0100
TZOFFSETTO:+0200
TZNAME:CEST
END:DAYLIGHT
END:VTIMEZONE
END:VCALENDAR