BEGIN:VCALENDAR
VERSION:2.0
PRODID:-//wp-events-plugin.com//7.2.3.1//EN
TZID:Europe/Berlin
X-WR-TIMEZONE:Europe/Berlin
BEGIN:VEVENT
UID:183@saechsischer-fluechtlingsrat.de
DTSTART;TZID=Europe/Berlin:20240918T150000
DTEND;TZID=Europe/Berlin:20240918T163000
DTSTAMP:20240909T134837Z
URL:https://www.saechsischer-fluechtlingsrat.de/events/borna-residencia-tr
 as-rechazo-asiloo-de-residencia-despues-de-un-rechazo-de-asilo/
SUMMARY:Opciones para asegurar un título de residencia después de un rech
 azo de asilo
DESCRIPTION:Infovortrag in spanischer Sprache: Bleiberechtsmöglichkeiten n
 ach Ablehnung des Asylantrages\nSebastian Lupke vom Projekt „¡BIENVENID
 OS!“ gibt einen Überblick über die verschiedenen gesetzlichen Möglich
 keiten von der Ausbildungsduldung bis zum neu eingeführten „Spurwechsel
 “ für Fachkräfte\, mit denen auch nach Ablehnung eines Asylantrages no
 ch ein Bleiberecht in Deutschland erwirkt werden kann. Die Veranstaltung f
 indet in Kooperation mit dem Bon Courage e.V. statt\, eine vorherige Anmel
 dung ist nicht notwendig.\nEvento informativo en español: Opciones para a
 segurar un título de residencia después de un rechazo de asilo\nSebastia
 n Lupke\, del proyecto „¡BIENVENIDOS!“\, ofrecerá una visión genera
 l de las distintas opciones legales\, desde la Duldung para la Ausbildung 
 hasta el recién introducido „cambio de carril“ para trabajadores cual
 ificados\, que pueden utilizarse para obtener el derecho a permanecer en A
 lemania incluso después de que se haya rechazado una solicitud de asilo. 
 El acto se organiza en colaboración con la asociación Bon Courage e.V.\,
  no es necesario inscribirse previamente.
ATTACH;FMTTYPE=image/jpeg:https://www.saechsischer-fluechtlingsrat.de/wp-c
 ontent/uploads/2024/09/Flyer-Borna.png
CATEGORIES:Projekt Bienvenidos
LOCATION:Bon Courage e.V.\, Kirchstraße 20-24\, Borna\, 04552\, Deutschlan
 d
X-APPLE-STRUCTURED-LOCATION;VALUE=URI;X-ADDRESS=Kirchstraße 20-24\, Borna\
 , 04552\, Deutschland;X-APPLE-RADIUS=100;X-TITLE=Bon Courage e.V.:geo:0,0
END:VEVENT
BEGIN:VTIMEZONE
TZID:Europe/Berlin
X-LIC-LOCATION:Europe/Berlin
BEGIN:DAYLIGHT
DTSTART:20240331T030000
TZOFFSETFROM:+0100
TZOFFSETTO:+0200
TZNAME:CEST
END:DAYLIGHT
END:VTIMEZONE
END:VCALENDAR