BEGIN:VCALENDAR
VERSION:2.0
PRODID:-//wp-events-plugin.com//7.2.3.1//EN
TZID:Europe/Berlin
X-WR-TIMEZONE:Europe/Berlin
BEGIN:VEVENT
UID:166@saechsischer-fluechtlingsrat.de
DTSTART;TZID=Europe/Berlin:20240613T170000
DTEND;TZID=Europe/Berlin:20240613T190000
DTSTAMP:20240527T133831Z
URL:https://www.saechsischer-fluechtlingsrat.de/events/chemnitz-residencia
 -tras-rechazo-asilo/
SUMMARY:Opciones para asegurar un título de residencia después de un rech
 azo de asilo
DESCRIPTION:Infovortrag in spanischer Sprache: Bleiberechtsmöglichkeiten n
 ach Ablehnung des Asylantrages\nSebastian Lupke und Neydi Villamizar vom P
 rojekt „¡BIENVENIDOS!“ geben einen Überblick über die verschiedenen
  gesetzlichen Möglichkeiten von der Ausbildungsduldung bis zum neu eingef
 ührten „Spurwechsel“ für Fachkräfte\, mit denen auch nach Ablehnung
  eines Asylantrages noch ein Bleiberecht in Deutschland erwirkt werden kan
 n. Eine vorherige Anmeldung ist nicht notwendig.\nEvento informativo en es
 pañol: Opciones para asegurar un título de residencia después de un rec
 hazo de asilo\nSebastian Lupke y Neydi Villamizar\, del proyecto „¡BIEN
 VENIDOS!“\, ofrecerán una visión general de las distintas opciones leg
 ales\, desde la Duldung para la Ausbildung hasta el recién introducido 
 „cambio de carril“ para trabajadores cualificados\, que pueden utiliza
 rse para obtener el derecho a permanecer en Alemania incluso después de q
 ue se haya rechazado una solicitud de asilo. No es necesario inscribirse p
 reviamente.
ATTACH;FMTTYPE=image/jpeg:https://www.saechsischer-fluechtlingsrat.de/wp-c
 ontent/uploads/2024/05/flyer-Chemnitz.png
CATEGORIES:Projekt Bienvenidos
LOCATION:Umweltzentrum Chemnitz\, Henriettenstraße 5\, Chemnitz\, Sachsen\
 , 09112\, Deutschland
X-APPLE-STRUCTURED-LOCATION;VALUE=URI;X-ADDRESS=Henriettenstraße 5\, Chemn
 itz\, Sachsen\, 09112\, Deutschland;X-APPLE-RADIUS=100;X-TITLE=Umweltzentr
 um Chemnitz:geo:0,0
END:VEVENT
BEGIN:VTIMEZONE
TZID:Europe/Berlin
X-LIC-LOCATION:Europe/Berlin
BEGIN:DAYLIGHT
DTSTART:20240331T030000
TZOFFSETFROM:+0100
TZOFFSETTO:+0200
TZNAME:CEST
END:DAYLIGHT
END:VTIMEZONE
END:VCALENDAR