BEGIN:VCALENDAR
VERSION:2.0
PRODID:-//wp-events-plugin.com//7.2.3.1//EN
TZID:Europe/Berlin
X-WR-TIMEZONE:Europe/Berlin
BEGIN:VEVENT
UID:142@saechsischer-fluechtlingsrat.de
DTSTART;TZID=Europe/Berlin:20230919T170000
DTEND;TZID=Europe/Berlin:20230919T190000
DTSTAMP:20230724T134218Z
URL:https://www.saechsischer-fluechtlingsrat.de/events/das-deutsche-gesund
 heitssystem/
SUMMARY:Das deutsche Gesundheitssystem
DESCRIPTION:Gesundheitssystem in Deutschland\, Aufenthaltsstatus und Zugang
  zur medizinischen Versorgung\nWo finde ich einen Hausarzt? Was ist der Un
 terschied zwischen gesetzlicher und privater Krankenkasse? Welche Möglich
 keiten habe ich\, um gesund zu bleiben? Und was tue ich\, wenn ich krank b
 in? \nDiese und andere Fragen beantwortet die KuGeL- Informationsveranstal
 tung. Sie gibt einen Überblick über das deutsche Gesundheitssystem und d
 ie wichtigsten Leistungen der Krankenkassen. Außerdem gibt die Veranstalt
 ung Informationen zu medizinischen Leistungen mit verschiedenen Aufenthalt
 stiteln und weiterführenden Beratungsstellen.
ATTACH;FMTTYPE=image/jpeg:https://www.saechsischer-fluechtlingsrat.de/wp-c
 ontent/uploads/2023/06/qube_VA-wegweiser-website.png
CATEGORIES:Schulungen für Geflüchtete und Migrant*innen
END:VEVENT
BEGIN:VTIMEZONE
TZID:Europe/Berlin
X-LIC-LOCATION:Europe/Berlin
BEGIN:DAYLIGHT
DTSTART:20230326T030000
TZOFFSETFROM:+0100
TZOFFSETTO:+0200
TZNAME:CEST
END:DAYLIGHT
END:VTIMEZONE
END:VCALENDAR