BEGIN:VCALENDAR
VERSION:2.0
PRODID:-//wp-events-plugin.com//7.2.3.1//EN
TZID:Europe/Berlin
X-WR-TIMEZONE:Europe/Berlin
BEGIN:VEVENT
UID:186@saechsischer-fluechtlingsrat.de
DTSTART;TZID=Europe/Berlin:20241130T100000
DTEND;TZID=Europe/Berlin:20241130T120000
DTSTAMP:20241029T141942Z
URL:https://www.saechsischer-fluechtlingsrat.de/events/desafio-vs-resignac
 ion-veranstaltung-auf-spanisch/
SUMMARY:Desafio vs. resignación (Veranstaltung auf spanisch)
DESCRIPTION:Spanisches Online-Coaching "Herausforderung vs. Resignation"\nI
 n Kooperation mit dem Projekt BIENVENIDOS wird Frau Maria Gabriela Bello\,
  Ärztin aus Venezuela im Prozess der Zeugnisanerkennung\, einen Coaching-
 Workshop über Neuanfänge als Migrant:in\, mentale Gesundheit sowie Werts
 chätzung und Befähigung in einer neuen Lebensumgebung durchführen. Der 
 Vortrag ist kostenfrei und wird online via Zoom stattfinden. Wir bitten um
  eine kurze Anmeldung bis spätestens 28.11.2024 an villamizar@sfrev.de.\n
 Coaching online en español "Desafío o resignación"\nEn colaboración co
 n el proyecto BIENVENIDOS\, la Sra. María Gabriela Bello\, doctora de Ven
 ezuela en proceso de homologación\, impartirá un taller de coaching sobr
 e nuevos comienzos como migrante\, salud mental\, valoración y empoderami
 ento en un nuevo entorno vital. La conferencia es gratuita y tendrá lugar
  en línea a través de Zoom. Por favor\, inscríbase a más tardar el 28 
 de noviembre de 2024 a través de villamizar@sfrev.de. \n&nbsp\;
ATTACH;FMTTYPE=image/jpeg:https://www.saechsischer-fluechtlingsrat.de/wp-c
 ontent/uploads/2024/10/flyer.png
CATEGORIES:Projekt Bienvenidos
END:VEVENT
BEGIN:VTIMEZONE
TZID:Europe/Berlin
X-LIC-LOCATION:Europe/Berlin
BEGIN:STANDARD
DTSTART:20241027T020000
TZOFFSETFROM:+0200
TZOFFSETTO:+0100
TZNAME:CET
END:STANDARD
END:VTIMEZONE
END:VCALENDAR