BEGIN:VCALENDAR
VERSION:2.0
PRODID:-//wp-events-plugin.com//7.2.3.1//EN
TZID:Europe/Berlin
X-WR-TIMEZONE:Europe/Berlin
BEGIN:VEVENT
UID:152@saechsischer-fluechtlingsrat.de
DTSTART;TZID=Europe/Berlin:20231023T190000
DTEND;TZID=Europe/Berlin:20231023T190000
DTSTAMP:20231006T113326Z
URL:https://www.saechsischer-fluechtlingsrat.de/events/die-mittelmeer-mono
 loge/
SUMMARY:Die Mittelmeer Monologe
DESCRIPTION:Die Mittelmeer-Monologe erzählen von den politisch Widerständ
 igen Naomie aus Kamerun und Yassin aus Libyen\, die sich auf einem Boot na
 ch Europa wiederfinden\, von brutalen 'Küstenwachen' und zweifelhaften Se
 enotrettungsstellen und von Aktivist*innen\, die dem\nSterben auf dem Mitt
 elmeer etwas entgegen setzen.
ATTACH;FMTTYPE=image/jpeg:https://www.saechsischer-fluechtlingsrat.de/wp-c
 ontent/uploads/2023/10/231023_VA-Montagscafe-Mittelmeermonologe_web.jpg
CATEGORIES:Veranstaltung
LOCATION:Kleines Haus Staatsschauspiel Dresden\, Glacisstrasse 28\, Dresden
 \, Deutschland
X-APPLE-STRUCTURED-LOCATION;VALUE=URI;X-ADDRESS=Glacisstrasse 28\, Dresden\
 , Deutschland;X-APPLE-RADIUS=100;X-TITLE=Kleines Haus Staatsschauspiel Dre
 sden:geo:0,0
END:VEVENT
BEGIN:VTIMEZONE
TZID:Europe/Berlin
X-LIC-LOCATION:Europe/Berlin
BEGIN:DAYLIGHT
DTSTART:20230326T030000
TZOFFSETFROM:+0100
TZOFFSETTO:+0200
TZNAME:CEST
END:DAYLIGHT
END:VTIMEZONE
END:VCALENDAR