BEGIN:VCALENDAR
VERSION:2.0
PRODID:-//wp-events-plugin.com//7.2.3.1//EN
TZID:Europe/Berlin
X-WR-TIMEZONE:Europe/Berlin
BEGIN:VEVENT
UID:162@saechsischer-fluechtlingsrat.de
DTSTART;TZID=Europe/Berlin:20240508T150000
DTEND;TZID=Europe/Berlin:20240508T170000
DTSTAMP:20240516T094714Z
URL:https://www.saechsischer-fluechtlingsrat.de/events/dresden-residencia-
 tras-rechazo-asilo/
SUMMARY:Opciones para asegurar un título de residencia después de un rech
 azo de asilo
DESCRIPTION:Infovortrag in spanischer Sprache: Bleiberechtsmöglichkeiten n
 ach Ablehnung des Asylantrages\nSebastian Lupke vom Projekt "¡BIENVENIDOS
 !" gibt einen Überblick über die verschiedenen gesetzlichen Möglichkeit
 en von der Ausbildungsduldung bis zum neu eingeführten "Spurwechsel" für
  Fachkräfte\, mit denen auch nach Ablehnung eines Asylantrages noch ein B
 leiberecht in Deutschland erwirkt werden kann. Die Veranstaltung findet in
  Kooperation mit der Caritas Dresden statt\, eine vorherige Anmeldung ist 
 nicht notwendig.\nEvento informativo en español: Opciones para asegurar u
 n título de residencia después de un rechazo de asilo\nSebastian Lupke\,
  del proyecto "¡BIENVENIDOS!"\, ofrecerá una visión general de las dist
 intas opciones legales\, desde la Duldung para la Ausbildung hasta el reci
 én introducido "cambio de carril" para trabajadores cualificados\, que pu
 eden utilizarse para obtener el derecho a permanecer en Alemania incluso d
 espués de que se haya rechazado una solicitud de asilo. El acto se organi
 za en colaboración con Cáritas Dresden\, no es necesario inscribirse pre
 viamente.\n 
ATTACH;FMTTYPE=image/jpeg:https://www.saechsischer-fluechtlingsrat.de/wp-c
 ontent/uploads/2024/04/2024-05-08_Taller-informativo-Dresden.jpg
CATEGORIES:Projekt Bienvenidos
LOCATION:Gamigstraße 24\, 01239 Dresden\, Gamigstraße 24\, Dresden\, 0123
 9\, Deutschland
X-APPLE-STRUCTURED-LOCATION;VALUE=URI;X-ADDRESS=Gamigstraße 24\, Dresden\,
  01239\, Deutschland;X-APPLE-RADIUS=100;X-TITLE=Gamigstraße 24\, 01239 Dr
 esden:geo:0,0
END:VEVENT
BEGIN:VTIMEZONE
TZID:Europe/Berlin
X-LIC-LOCATION:Europe/Berlin
BEGIN:DAYLIGHT
DTSTART:20240331T030000
TZOFFSETFROM:+0100
TZOFFSETTO:+0200
TZNAME:CEST
END:DAYLIGHT
END:VTIMEZONE
END:VCALENDAR