BEGIN:VCALENDAR
VERSION:2.0
PRODID:-//wp-events-plugin.com//7.2.3.1//EN
TZID:Europe/Berlin
X-WR-TIMEZONE:Europe/Berlin
BEGIN:VEVENT
UID:184@saechsischer-fluechtlingsrat.de
DTSTART;TZID=Europe/Berlin:20241009T160000
DTEND;TZID=Europe/Berlin:20241009T180000
DTSTAMP:20241001T075401Z
URL:https://www.saechsischer-fluechtlingsrat.de/events/einstieg-arbeitsmar
 kt-dresden/
SUMMARY:Workshop "Einstieg in den Arbeitsmarkt" (Veranstaltung auf spanisch
 )
DESCRIPTION:Gemeinsam mit der Caritas Dresden lädt unser Projekt ¡BIENVEN
 IDOS! herzlich zum Workshop "Einstieg in den Arbeitsmarkt" ein! Sebastian 
 Lupke und Neydi Villamizar werden in ihrem Vortrag einen Überblick zur Be
 antragung einer Arbeitserlaubnis\, Informationen zu Praktikum und Freiwill
 igendienst sowie Ratschläge zur Erstellung einer Bewerbungsmappe inklusiv
 e Lebenslauf und Bewerbungsschreiben geben.\nDie Veranstaltung findet auf 
 spanisch statt\, Veranstaltungsort ist der ehemalige Museumsshop im Deutsc
 hen Hygienemuseum in Dresden. Der Eintritt ist frei\, aufgrund begrenzter 
 Plätze ist jedoch eine vorherige Anmeldung per E-Mail an beltran@caritas-
 dresden.de erforderlich.\n\nJunto con Cáritas Dresden\, nuestro proyecto 
 ¡BIENVENIDOS! le invita cordialmente al taller "Entrada al mercado labora
 l". En su presentación\, Sebastian Lupke y Neydi Villamizar darán una vi
 sión general de cómo solicitar un permiso de trabajo\, información sobr
 e prácticas y voluntariado\, así como consejos para preparar una postula
 ción de trabajo incluyendo un CV y una carta de presentación.\nEl acto s
 e realizará en español y tendrá lugar en la antigua tienda del Museo De
 utsches Hygienemuseum en Dresden. La entrada es gratuita\, pero debido al 
 número limitado de plazas se requiere una inscripción previa por correo 
 electrónico a beltran@caritas-dresden.de.
ATTACH;FMTTYPE=image/jpeg:https://www.saechsischer-fluechtlingsrat.de/wp-c
 ontent/uploads/2024/10/Sharepic.png
CATEGORIES:Projekt Bienvenidos
LOCATION:Deutsches Hygiene-Museum\, Lingnerplatz 1\, Dresden\, Sachsen\, 01
 069\, Deutschland
X-APPLE-STRUCTURED-LOCATION;VALUE=URI;X-ADDRESS=Lingnerplatz 1\, Dresden\, 
 Sachsen\, 01069\, Deutschland;X-APPLE-RADIUS=100;X-TITLE=Deutsches Hygiene
 -Museum:geo:0,0
END:VEVENT
BEGIN:VTIMEZONE
TZID:Europe/Berlin
X-LIC-LOCATION:Europe/Berlin
BEGIN:DAYLIGHT
DTSTART:20240331T030000
TZOFFSETFROM:+0100
TZOFFSETTO:+0200
TZNAME:CEST
END:DAYLIGHT
END:VTIMEZONE
END:VCALENDAR