BEGIN:VCALENDAR
VERSION:2.0
PRODID:-//wp-events-plugin.com//7.2.3.1//EN
TZID:Europe/Berlin
X-WR-TIMEZONE:Europe/Berlin
BEGIN:VEVENT
UID:163@saechsischer-fluechtlingsrat.de
DTSTART;TZID=Europe/Berlin:20240506T180000
DTEND;TZID=Europe/Berlin:20240506T200000
DTSTAMP:20240425T081710Z
URL:https://www.saechsischer-fluechtlingsrat.de/events/fakten-statt-populi
 smus-dialogabend-zu-flucht-asyl-in-sachsen-mit-dresdener-richterin-und-sai
 ed-karabij/
SUMMARY:Fakten statt Populismus – Dialogabend zu Flucht/Asyl in Sachsen m
 it Dresdener Richterin und Saied Karabij
DESCRIPTION:Wir wollen Fakten aus erster Hand liefern und Raum für Fragen 
 bieten\, die viele Menschen im Bereich Flucht/Asyl bewegen. Saied Karabij\
 , der aus Syrien fliehen musst und eine Richterin\, die Asylverfahren von 
 Menschen aus Afghanistan entscheidet\, möchten aus ihrem Alltag berichten
  und mit Ihnen ins Gespräch kommen.
ATTACH;FMTTYPE=image/jpeg:https://www.saechsischer-fluechtlingsrat.de/wp-c
 ontent/uploads/2024/04/Kopie-von-Fakten-statt-Populismus-Dialog-mit-Dresde
 ner-Richterin-und-Saied-Karabij-zu-Flucht-und-Asyl-in-Sachsen.png
CATEGORIES:Veranstaltung
LOCATION:Dreikönigskirche\, Hauptstraße 23\, Dresden\, 01097\, Deutschlan
 d
X-APPLE-STRUCTURED-LOCATION;VALUE=URI;X-ADDRESS=Hauptstraße 23\, Dresden\,
  01097\, Deutschland;X-APPLE-RADIUS=100;X-TITLE=Dreikönigskirche:geo:0,0
END:VEVENT
BEGIN:VTIMEZONE
TZID:Europe/Berlin
X-LIC-LOCATION:Europe/Berlin
BEGIN:DAYLIGHT
DTSTART:20240331T030000
TZOFFSETFROM:+0100
TZOFFSETTO:+0200
TZNAME:CEST
END:DAYLIGHT
END:VTIMEZONE
END:VCALENDAR