BEGIN:VCALENDAR
VERSION:2.0
PRODID:-//wp-events-plugin.com//7.2.3.1//EN
TZID:Europe/Berlin
X-WR-TIMEZONE:Europe/Berlin
BEGIN:VEVENT
UID:190@saechsischer-fluechtlingsrat.de
DTSTART;TZID=Europe/Berlin:20241210T163000
DTEND;TZID=Europe/Berlin:20241210T190000
DTSTAMP:20241202T161339Z
URL:https://www.saechsischer-fluechtlingsrat.de/events/filmvorfuehrung-gre
 en-border/
SUMMARY:Filmvorführung: Green Border
DESCRIPTION:Eine Veranstaltung von Comparti und dem Sächsischen Flüchtlin
 gsrat.\nAutoritäre Wende\, Kriege und Rüstungswahn\, Klimakatastrophe\, 
 neoliberaler Bankrott\, Sozialabbau\, Abschottung... Inmitten krisenhafter
  Umbrüche wird alles zerbrechlicher - vor allem die Menschen und ihre Rec
 hte.\nAm Tag der Menschenrechte treffen wir uns im Kino Metropol\, um uns 
 mit einem dieser Rechte zu beschäftigen\, das derzeit unter Dauerbeschuss
  steht: Das Recht auf Asyl.\n\n\nBroschüre: Erstvorstellung von "No more 
 camps\, we want homes!"\, über die Situation in den sächsischen Erstaufn
 ahmeeinrichtungen.\nInfostand: Die aktuelle Ausgabe des Jahresmagazins vom
  Sächsischen Flüchtlingsrat "Querfeld".\nEs wird Gedichte von/über Fluc
 ht geben.\nFilmvorführung: Green Border - ein Film der Oscar-nominierten 
 Regisseurin Agnieszka Holland über die Geschichte einer Flucht voller Ans
 trengungen\, Repressionen und Hoffnung.\n\nKommt vorbei und lasst uns geme
 insam die Menschenrechte feiern!
ATTACH;FMTTYPE=image/jpeg:https://www.saechsischer-fluechtlingsrat.de/wp-c
 ontent/uploads/2024/12/468542807_545100518335330_1795853315435944107_n.jpg
CATEGORIES:Film,Lesung/Diskussion,Veranstaltung
LOCATION:Metropol Chemnitz\, Zwickauer Straße 11\, Chemnitz\, Sachsen\, 09
 112\, Deutschland
X-APPLE-STRUCTURED-LOCATION;VALUE=URI;X-ADDRESS=Zwickauer Straße 11\, Chem
 nitz\, Sachsen\, 09112\, Deutschland;X-APPLE-RADIUS=100;X-TITLE=Metropol C
 hemnitz:geo:0,0
END:VEVENT
BEGIN:VTIMEZONE
TZID:Europe/Berlin
X-LIC-LOCATION:Europe/Berlin
BEGIN:STANDARD
DTSTART:20241027T020000
TZOFFSETFROM:+0200
TZOFFSETTO:+0100
TZNAME:CET
END:STANDARD
END:VTIMEZONE
END:VCALENDAR