BEGIN:VCALENDAR
VERSION:2.0
PRODID:-//wp-events-plugin.com//7.2.3.1//EN
TZID:Europe/Berlin
X-WR-TIMEZONE:Europe/Berlin
BEGIN:VEVENT
UID:135@saechsischer-fluechtlingsrat.de
DTSTART;TZID=Europe/Berlin:20231024T100000
DTEND;TZID=Europe/Berlin:20231024T150000
DTSTAMP:20231218T155140Z
URL:https://www.saechsischer-fluechtlingsrat.de/events/grundlagen-des-aufe
 nthaltsrechts/
SUMMARY:Grundlagen des Aufenthaltsrechts
DESCRIPTION:Welche Voraussetzungen sind für einen Aufenthaltstitel zu erf
 üllen? Darf ich mit diesem Papier reisen – und wohin? Wie kann einen un
 befristeten Aufenthalt erhalten? Mit diesen und anderen Fragen sind Beratu
 ngsstellen für Geflüchtete und Migrant*innen tagtäglich konfrontiert. D
 ie maßgebenden Regeln scheinen oft schwer verständlich und waren in den 
 letzten Jahren oft Änderungen unterworfen. Die Fortbildungsveranstaltung 
 vermittelt für die hauptamtliche Beratung in Fragen des Aufenthalts notwe
 ndige Kenntnisse.\nZielgruppe: Die Fortbildung richtet sich an hauptamtlic
 h in der Arbeit mit Geflüchteten\, Asylsuchenden und Migrant*innen Tätig
 e/ Vorwissen von Vorteil\, aber nicht Voraussetzung\nInhalte der Schulung:
 \n\n	Aufenthaltszwecke\n	Erteilung und Verlängerung von Aufenthaltserlaub
 nissen und anschließender Niederlassungserlaubnis\n	allgemeine Erteilungs
 voraussetzungen\n	Titelerteilungssperre\n	Rechte und Pflichten für Inhabe
 r von Aufenthaltstiteln\, insbesondere: Wohnsitzauflage und Passpflicht\n	
 Erlöschen eines Aufenthaltstitels und Ausweisung\n\nDie Veranstaltung bei
 nhaltet einen Input mit begleitender Präsentation sowie die Möglichkeit 
 für konkrete Nachfragen und Erfahrungsaustausch im Anschluss. Sie findet 
 online via Zoom statt und ist kostenfrei.\n
ATTACH;FMTTYPE=image/jpeg:https://www.saechsischer-fluechtlingsrat.de/wp-c
 ontent/uploads/2023/06/qube_VA-website.png
CATEGORIES:Fortbildung solide Vorkenntnisse,Projekt QuBe
END:VEVENT
BEGIN:VTIMEZONE
TZID:Europe/Berlin
X-LIC-LOCATION:Europe/Berlin
BEGIN:DAYLIGHT
DTSTART:20230326T030000
TZOFFSETFROM:+0100
TZOFFSETTO:+0200
TZNAME:CEST
END:DAYLIGHT
END:VTIMEZONE
END:VCALENDAR