BEGIN:VCALENDAR
VERSION:2.0
PRODID:-//wp-events-plugin.com//7.2.3.1//EN
TZID:Europe/Berlin
X-WR-TIMEZONE:Europe/Berlin
BEGIN:VEVENT
UID:181@saechsischer-fluechtlingsrat.de
DTSTART;TZID=Europe/Berlin:20240914T110000
DTEND;TZID=Europe/Berlin:20240914T200000
DTSTAMP:20240828T081349Z
URL:https://www.saechsischer-fluechtlingsrat.de/events/interkulturelle-woc
 hen-chemnitz-eroeffnungsveranstaltung/
SUMMARY:Interkulturelle Wochen Chemnitz - Eröffnungsveranstaltung
DESCRIPTION:Am Samstag\, dem 14. September werden die diesjährigen Interku
 lturellen Wochen wieder mit einer ganztägigen Veranstaltung auf dem Chemn
 itzer Neumarkt eröffnet. Vereine\, migrantische Communities und andere Ak
 teure der Stadtgesellschaft präsentieren ihre Angebote und zeigen die kul
 turelle Vielfalt der Stadt. Selbstverständlich werden auch wir als Sächs
 ischer Flüchtlingsrat e.V. wieder mit vertrten sein.\nAn unserem Infostan
 d im "Informarium" (im hinteren Teil dees Neumarkts) stellen wir unsere ve
 rschiedenen Projekte und Unterstützungsangebote für Geflüchtete und Asy
 lsuchende in Sachsen vor. Außerdem organisieren wir gemeinsam mit der lok
 alen venezolanischen Gemeinschaft eine Darbietung traditioneller Tänze un
 d Musik auf der Bühne des Neumarkts\, und bieten typische venezolanische 
 Speisen gegen Spende an.\nWir freuen uns auf Euren Besuch!
ATTACH;FMTTYPE=image/jpeg:https://www.saechsischer-fluechtlingsrat.de/wp-c
 ontent/uploads/2024/08/img.jpg
CATEGORIES:Projekt Bienvenidos
LOCATION:Neumarkt Chemnitz\, Neumarkt\, Chemnitz\, 09111\, Deutschland
X-APPLE-STRUCTURED-LOCATION;VALUE=URI;X-ADDRESS=Neumarkt\, Chemnitz\, 09111
 \, Deutschland;X-APPLE-RADIUS=100;X-TITLE=Neumarkt Chemnitz:geo:0,0
END:VEVENT
BEGIN:VTIMEZONE
TZID:Europe/Berlin
X-LIC-LOCATION:Europe/Berlin
BEGIN:DAYLIGHT
DTSTART:20240331T030000
TZOFFSETFROM:+0100
TZOFFSETTO:+0200
TZNAME:CEST
END:DAYLIGHT
END:VTIMEZONE
END:VCALENDAR