BEGIN:VCALENDAR
VERSION:2.0
PRODID:-//wp-events-plugin.com//7.2.3.1//EN
TZID:Europe/Berlin
X-WR-TIMEZONE:Europe/Berlin
BEGIN:VEVENT
UID:168@saechsischer-fluechtlingsrat.de
DTSTART;TZID=Europe/Berlin:20240617T190000
DTEND;TZID=Europe/Berlin:20240617T210000
DTSTAMP:20240528T095601Z
URL:https://www.saechsischer-fluechtlingsrat.de/events/lesung-und-dialog-m
 it-hami-nguyen-zu-das-ende-der-unsichtbarkeit-anschliessende-diskussion-mi
 t-paolo-le-van-zu-migost-studie/
SUMMARY:Lesung mit Hami Nguyen zu DAS ENDE DER UNSICHTBARKEIT + Diskussion 
 zu MigOst-Studie
DESCRIPTION:Bildungsreferentin\, Aktivistin und Autorin HAMI NGUYEN ist im 
 Montagscafé zu Gast und liest aus ihrem Buch DAS ENDE DER UNSICHTBARKEIT.
  Nach der Lesung wird PAOLO LE VAN (TU Dresden) das Forschungsprojekt MigO
 st vorstellen\, dass sich mit migrantischer Selbstorganisation Ostdeutschl
 and beschäftigt.
ATTACH;FMTTYPE=image/jpeg:https://www.saechsischer-fluechtlingsrat.de/wp-c
 ontent/uploads/2024/05/Dein-Abschnittstext2.png
CATEGORIES:Lesung/Diskussion
LOCATION:Montagscafé\, Glacisstraße 28\, Dresden\, 01099\, Deutschland
X-APPLE-STRUCTURED-LOCATION;VALUE=URI;X-ADDRESS=Glacisstraße 28\, Dresden\
 , 01099\, Deutschland;X-APPLE-RADIUS=100;X-TITLE=Montagscafé:geo:0,0
END:VEVENT
BEGIN:VTIMEZONE
TZID:Europe/Berlin
X-LIC-LOCATION:Europe/Berlin
BEGIN:DAYLIGHT
DTSTART:20240331T030000
TZOFFSETFROM:+0100
TZOFFSETTO:+0200
TZNAME:CEST
END:DAYLIGHT
END:VTIMEZONE
END:VCALENDAR