BEGIN:VCALENDAR
VERSION:2.0
PRODID:-//wp-events-plugin.com//7.2.3.1//EN
TZID:Europe/Berlin
X-WR-TIMEZONE:Europe/Berlin
BEGIN:VEVENT
UID:164@saechsischer-fluechtlingsrat.de
DTSTART;TZID=Europe/Berlin:20240524T170000
DTEND;TZID=Europe/Berlin:20240524T200000
DTSTAMP:20240516T094923Z
URL:https://www.saechsischer-fluechtlingsrat.de/events/plauen-residencia-t
 ras-rechazo-asilo/
SUMMARY:Opciones para asegurar un título de residencia después de un rech
 azo de asilo
DESCRIPTION:Infovortrag in spanischer Sprache: Die Anhörung im Asylverfahr
 en &amp\; Bleiberechtsmöglichkeiten nach Ablehnung des Asylantrages\nSeba
 stian Lupke vom Projekt „¡BIENVENIDOS!“ stellt zunächst den Ablauf d
 er Anhörung im Asylverfahren nebst wichtiger Rechte und Pflichten vor. In
  einem zweiten Teil folgt ein Überblick über die gesetzlichen Möglichke
 iten von der Ausbildungsduldung bis zum neu eingeführten „Spurwechsel
 “ für Fachkräfte\, mit denen auch nach der möglichen Ablehnung eines 
 Asylantrages noch ein Bleiberecht in Deutschland erwirkt werden kann. Die 
 Veranstaltung findet in Kooperation mit dem Colorido e.V. statt\, eine vor
 herige Anmeldung ist nicht notwendig.\nEvento informativo en español: La 
 entrevista de asilo &amp\; Opciones para asegurar un título de residencia
  después de un rechazo de asilo\nSebastian Lupke\, del proyecto "¡BIENVE
 NIDOS!"\, presenta en un primer parte el proceso de la entrevista de asilo
 \, incluidos importantes derechos y obligaciones. En una segunda parte\, o
 frecerá una visión general de las distintas opciones legales\, desde la 
 Duldung para la Ausbildung hasta el recién introducido „cambio de carri
 l“ para trabajadores cualificados\, que pueden utilizarse para obtener e
 l derecho a permanecer en Alemania incluso después de que se haya rechaza
 do una solicitud de asilo. El acto se organiza en colaboración con el Col
 orido e.V. de Plauen\, no es necesario inscribirse previamente.
ATTACH;FMTTYPE=image/jpeg:https://www.saechsischer-fluechtlingsrat.de/wp-c
 ontent/uploads/2024/04/2024-05-24_Taller-informativo-Plauen.png
CATEGORIES:Projekt Bienvenidos
LOCATION:Oberer Bahnhof Plauen\, Oberer Bahnhof Plauen\, Plauen\, 08525\, D
 eutschland
X-APPLE-STRUCTURED-LOCATION;VALUE=URI;X-ADDRESS=Oberer Bahnhof Plauen\, Pla
 uen\, 08525\, Deutschland;X-APPLE-RADIUS=100;X-TITLE=Oberer Bahnhof Plauen
 :geo:0,0
END:VEVENT
BEGIN:VTIMEZONE
TZID:Europe/Berlin
X-LIC-LOCATION:Europe/Berlin
BEGIN:DAYLIGHT
DTSTART:20240331T030000
TZOFFSETFROM:+0100
TZOFFSETTO:+0200
TZNAME:CEST
END:DAYLIGHT
END:VTIMEZONE
END:VCALENDAR