BEGIN:VCALENDAR
VERSION:2.0
PRODID:-//wp-events-plugin.com//7.2.3.1//EN
TZID:Europe/Berlin
X-WR-TIMEZONE:Europe/Berlin
BEGIN:VEVENT
UID:74@saechsischer-fluechtlingsrat.de
DTSTART;TZID=Europe/Berlin:20211125T090000
DTEND;TZID=Europe/Berlin:20211125T170000
DTSTAMP:20230503T160628Z
URL:https://www.saechsischer-fluechtlingsrat.de/events/qube-fachtag-migrat
 ionspaket/
SUMMARY:QuBe Fachtag: Migrationspaket
DESCRIPTION:Zwei Jahre Migrationspaket -\nkritischer Rückblick\, aktuelle 
 Probleme und gemeinsame Perspektiven\n\nDie Inkraftsetzung des Migrationsp
 akets im Herbst 2019 hatte nicht nur Auswirkungen auf das Asyl- und Aufent
 haltsrecht\, sondern wirkte auch ins Sozialrecht hinein und gestaltete das
  Recht der Abschiebungshaft neu. Sowohl Rechtsanwält*innen als auch Berat
 er*innen wurden damit vor neue Herausforderungen gestellt.\n\nDer Fachtag 
 soll insbesondere Anwält*innen und in der Arbeit mit Geflüchteten und Mi
 grant*innen hauptamtlich Aktive zum Erfahrungsaustausch anregen. Gemeinsam
  sollen Kenntnisse vertieft und gemeinsame Strategien entwickelt werden. N
 eben der asyl- und aufenthaltsrechtlichen sowie der sozialrechtlichen Pers
 pektive soll ein Schlaglicht auf das Thema Abschiebehaft geworfen werden.\
 n\nWährend der ersten Tageshälfte werden Anwält*innen und Berater*innen
  im Plenum ihre Perspektiven schildern. Nach der Mittagspause besteht in K
 leingruppen die Gelegenheit zum Praxisaustausch. Jede*r Teilnehmende kann 
 an zwei (von drei) Gesprächsrunden teilnehmen. Bitte geben Sie Ihre diesb
 ezüglichen Präferenzen bereits bei der unten stehenden Anmeldung an\, wi
 r versuchen\, alle Wünsche zu berücksichtigen.\n\nDie Anmeldung ist gesc
 hlossen!\n\n\n\n9:00 – 9:20\nBegrüßung\n\n\n\nTEIL I: Änderungen durc
 h das Migrationspaket: ein kurzer Überblick\n\n\n9:25 – 10:00\nDas Migr
 ationspaket und seine Auswirkungen aus anwaltlicher und aus Beratungsstell
 enperspektive\nReferentinnen: Hasina Amirat\, Sächsischer Flüchtlingsrat
  und Carolin Helmecke\, Rechtsanwältin\n\n\n\nTeil II: Ausgewählte aktue
 lle Problemlagen\n\n\n10:05 – 10:45\nA: Aktuelle Problemlagen im Asyl- u
 nd Aufenthaltsrecht \nReferentin: Rechtsanwältin Carolin Helmecke\n\n\n10
 :45 - 11:00\nKaffeepause\n\n\n11:00 - 11:40\nB: Das Migrationspaket und se
 ine Auswirkungen auf die Praxis im Sozialrecht für Geflüchtete (AsylbLG)
 \nReferent: Rechtsanwalt Raik Höfler\n\n\n11:45 – 12:25\nC: Aktuelle En
 twicklungen im Bereich der Abschiebungshaft\nReferent: Rechtsanwalt Peter 
 Fahlbusch\n\n\n12:30 – 13:30\nMittagspause\n\n\n\nTEIL III: Praxisaustau
 sch in 3 Thementischen jeweils zwei Durchläufe\n\n\n13:30 – 14:30\nPrax
 isaustausch 1. Runde (parallel zu allen drei Themen)\n\n\n14:35 – 15:35\
 nPraxisaustausch 2. Runde (parallel zu allen drei Themen)\n\n\n15:35 – 1
 6:00\nPause\n\n\n16:00 – 17:00\nPräsentation der Ergebnisse\, Abschluss
 \n\n\n\n
ATTACH;FMTTYPE=image/jpeg:https://www.saechsischer-fluechtlingsrat.de/wp-c
 ontent/uploads/2023/05/qube_VA-website.png
CATEGORIES:Fortbildung,Veranstaltung
END:VEVENT
BEGIN:VTIMEZONE
TZID:Europe/Berlin
X-LIC-LOCATION:Europe/Berlin
BEGIN:STANDARD
DTSTART:20211031T020000
TZOFFSETFROM:+0200
TZOFFSETTO:+0100
TZNAME:CET
END:STANDARD
END:VTIMEZONE
END:VCALENDAR