BEGIN:VCALENDAR
VERSION:2.0
PRODID:-//wp-events-plugin.com//7.2.3.1//EN
TZID:Europe/Berlin
X-WR-TIMEZONE:Europe/Berlin
BEGIN:VEVENT
UID:71@saechsischer-fluechtlingsrat.de
DTSTART;TZID=Europe/Berlin:20210928T190000
DTEND;TZID=Europe/Berlin:20210928T220000
DTSTAMP:20230502T162842Z
URL:https://www.saechsischer-fluechtlingsrat.de/events/querfeld-release-5/
SUMMARY:Querfeld-Release #5
DESCRIPTION:Es gibt Grund zu feiern: Der Sächsische Flüchtlingsrat e.V. w
 ird 30 Jahre alt! Und nicht nur das - wir veröffentlichen die 5. Ausgabe 
 des Querfeld Magazins\n\nAm Dienstag\, den 28.09. findet im Pöge-Haus in 
 Leipzig\, Hedwigstr. 20\, die Veröffentlichung vom Querfeld statt. Das Ja
 hresmagazin des Sächsischen Flüchtlingsrat e.V. wird damit bereits zum f
 ünften Mal veröffentlicht. Die aktuelle Ausgabe bietet wieder einen Übe
 rblick zu Themen rund um Asyl und Migration in Sachsen und darüber hinaus
 \, die im letzten Jahr relevant waren. In einzelnen Lesungen werden vier d
 er Artikel aus dem Magazin vorgestellt. Es lesen:\n\nBon Courage e.V. - "A
 sylberatung in Sachsen. Über Relevanz\, Finanzierung und fehlende Prioris
 ierung."\n\nInitiativkreis: Menschen.Würdig. - "Wohnungspolitik! Keine Un
 terbringungspolitik! Warum Lager keine Wohnungen sind."\n\nJohanna Degerin
 g vom Border Violence Monitoring Network - "Kriminalisierte Solidarität a
 uf dem Westbalkan. Wie die Illegalisierung von Migration Unterstützung f
 ür Flüchtende auf dem Westbalkan kriminalisiert."\n\nSFR e.V. (Inga Albr
 echt) - Dokumentation von Abschiebungen aus Sachsen\nZudem stellen unoffic
 ial.pictures ihre Fotodokumentation "Ein markiertes Viertel: Eisenbahnstra
 ße" aus Leipzig aus.\n\n\n\nTimeline:\n19:00 Uhr - Einlass\n19:30 - 21 Uh
 r Lesungen\n21:00 - 22 Uhr Fotoausstellung\n\nEintritt ist frei (auf Spend
 enbasis)\n\nWir bitten alle Besucher*innen darauf zu achten\, dass für di
 e Veranstaltung die 3G-Regeln gelten (Einlass nur für Geimpfte\, Genesene
  oder Getestete).\n\nVeranstaltungslink auf Facebook
ATTACH;FMTTYPE=image/jpeg:https://www.saechsischer-fluechtlingsrat.de/wp-c
 ontent/uploads/2023/05/save_the_date_quer-scaled-1.jpg
CATEGORIES:Veranstaltung
END:VEVENT
BEGIN:VTIMEZONE
TZID:Europe/Berlin
X-LIC-LOCATION:Europe/Berlin
BEGIN:DAYLIGHT
DTSTART:20210328T030000
TZOFFSETFROM:+0100
TZOFFSETTO:+0200
TZNAME:CEST
END:DAYLIGHT
END:VTIMEZONE
END:VCALENDAR