BEGIN:VCALENDAR
VERSION:2.0
PRODID:-//wp-events-plugin.com//7.2.3.1//EN
TZID:Europe/Berlin
X-WR-TIMEZONE:Europe/Berlin
BEGIN:VEVENT
UID:187@saechsischer-fluechtlingsrat.de
DTSTART;TZID=Europe/Berlin:20241128T160000
DTEND;TZID=Europe/Berlin:20241128T180000
DTSTAMP:20241111T132357Z
URL:https://www.saechsischer-fluechtlingsrat.de/events/schulung-bleiberech
 t-leipzig/
SUMMARY:Opciones para asegurar un título de residencia después de un rech
 azo de asilo (Veranstaltung auf spanisch)
DESCRIPTION:\nInfovortrag in spanischer Sprache: Bleiberechtsmöglichkeiten
  nach Ablehnung des Asylantrages\nSebastian Lupke und Marlene Pernalete vo
 m Projekt „¡BIENVENIDOS!“ geben einen Überblick über die verschiede
 nen gesetzlichen Möglichkeiten von der Ausbildungsduldung bis zum neu ein
 geführten „Spurwechsel“ für Fachkräfte\, mit denen auch nach Ablehn
 ung eines Asylantrages noch ein Bleiberecht in Deutschland erwirkt werden 
 kann. Die Veranstaltung findet in Kooperation mit dem Soziokulturellen Zen
 trum Mühlstraße e.V. statt\, eine vorherige Anmeldung ist nicht notwendi
 g. Die Veranstaltung ist kostenlos.\nEvento informativo en español: Opcio
 nes para asegurar un título de residencia después de un rechazo de asilo
 \nSebastian Lupke y Marlene Pernalete\, del proyecto „¡BIENVENIDOS!“\
 , ofrecerán una visión general de las distintas opciones legales\, desde
  la Duldung para la Ausbildung hasta el recién introducido „cambio de c
 arril“ para trabajadores cualificados\, que pueden utilizarse para obten
 er el derecho a permanecer en Alemania incluso después de que se haya rec
 hazado una solicitud de asilo. El acto se organiza en colaboración con en
  centro cultural Mühlstraße e.V.\, no es necesario inscribirse previamen
 te. La entrada es gratuita. \n\n
ATTACH;FMTTYPE=image/jpeg:https://www.saechsischer-fluechtlingsrat.de/wp-c
 ontent/uploads/2024/11/2024-11-28_Bleiberecht-Leipzig-1.png
CATEGORIES:Projekt Bienvenidos
LOCATION:Soziokulturelles Zentrum Mühlstraße\, Mühlstraße 14\, Leipzig\
 , Sachsen\, 04317\, Deutschland
X-APPLE-STRUCTURED-LOCATION;VALUE=URI;X-ADDRESS=Mühlstraße 14\, Leipzig\,
  Sachsen\, 04317\, Deutschland;X-APPLE-RADIUS=100;X-TITLE=Soziokulturelles
  Zentrum Mühlstraße:geo:0,0
END:VEVENT
BEGIN:VTIMEZONE
TZID:Europe/Berlin
X-LIC-LOCATION:Europe/Berlin
BEGIN:STANDARD
DTSTART:20241027T020000
TZOFFSETFROM:+0200
TZOFFSETTO:+0100
TZNAME:CET
END:STANDARD
END:VTIMEZONE
END:VCALENDAR