BEGIN:VCALENDAR
VERSION:2.0
PRODID:-//wp-events-plugin.com//7.2.3.1//EN
TZID:Europe/Berlin
X-WR-TIMEZONE:Europe/Berlin
BEGIN:VEVENT
UID:235@saechsischer-fluechtlingsrat.de
DTSTART;TZID=Europe/Berlin:20251120T160000
DTEND;TZID=Europe/Berlin:20251120T173000
DTSTAMP:20250911T101629Z
URL:https://www.saechsischer-fluechtlingsrat.de/events/wege-aus-der-duldun
 g-3/
SUMMARY:Wege aus der Duldung
DESCRIPTION:Ihr Asylantrag wurde abgelehnt und Sie fragen sich\, wie es jet
 zt weitergeht oder Sie besitzen bereits eine Duldung und fragen sich\, wel
 che Möglichkeiten Sie nun haben? Wir wollen darüber informieren\, was ei
 ne Duldung ist und welche Wege aus der Duldung zu einer Aufenthaltserlaubn
 is führen können. \nDatum: 20.11.2025\nUhrzeit: 16:00 bis 17:30\nOrt: D
 iakonie Rochlitz\, Bismarckstraße 39\, 09306 Rochlitz\n\nAnmeldung: keine
 \nDie Schulung wird im Rahmen des Projektes "Meine Rechte. Meine Perspekti
 ven – Empowerment-Projekt für Drittstaatsangehörige in Sachsen" organi
 siert. Diese Maßnahme wird mitfinanziert mit Steuermitteln auf Grundlage 
 des vom Sächsischen Landtag beschlossenen Haushaltes sowie mit Mitteln de
 r UNO Flüchtlingshilfe.\n\n\n\n\n\n\n\n\n
ATTACH;FMTTYPE=image/jpeg:https://www.saechsischer-fluechtlingsrat.de/wp-c
 ontent/uploads/2025/08/MRMP-VA_900-web.png
CATEGORIES:Meine Rechte. Meine Perspektiven,Veranstaltung
LOCATION:Diakonie Rochlitz\, Bismarckstraße 39\, Rochlitz\, Deutschland
X-APPLE-STRUCTURED-LOCATION;VALUE=URI;X-ADDRESS=Bismarckstraße 39\, Rochli
 tz\, Deutschland;X-APPLE-RADIUS=100;X-TITLE=Diakonie Rochlitz:geo:0,0
END:VEVENT
BEGIN:VTIMEZONE
TZID:Europe/Berlin
X-LIC-LOCATION:Europe/Berlin
BEGIN:STANDARD
DTSTART:20251026T020000
TZOFFSETFROM:+0200
TZOFFSETTO:+0100
TZNAME:CET
END:STANDARD
END:VTIMEZONE
END:VCALENDAR