BEGIN:VCALENDAR
VERSION:2.0
PRODID:-//wp-events-plugin.com//7.2.3.1//EN
TZID:Europe/Berlin
X-WR-TIMEZONE:Europe/Berlin
BEGIN:VEVENT
UID:237@saechsischer-fluechtlingsrat.de
DTSTART;TZID=Europe/Berlin:20251203T143000
DTEND;TZID=Europe/Berlin:20251203T163000
DTSTAMP:20251125T142740Z
URL:https://www.saechsischer-fluechtlingsrat.de/events/wege-aus-der-duldun
 g-5/
SUMMARY:Wege aus der Duldung
DESCRIPTION:Ihr Asylantrag wurde abgelehnt und Sie fragen sich\, wie es jet
 zt weitergeht oder Sie besitzen bereits eine Duldung und fragen sich\, wel
 che Möglichkeiten Sie nun haben? Wir wollen darüber informieren\, was ei
 ne Duldung ist und welche Wege aus der Duldung zu einer Aufenthaltserlaubn
 is führen können. \nDatum: 03.12.2025\nUhrzeit: 14:30 bis 16:30\nOrt: c
 olorido e.V.\nDittrichplatz 8\n08523 Plauen\n\nAnmeldung: keine\nDie Schul
 ung wird im Rahmen des Projektes "Meine Rechte. Meine Perspektiven – Emp
 owerment-Projekt für Drittstaatsangehörige in Sachsen" organisiert. Dies
 e Maßnahme wird mitfinanziert mit Steuermitteln auf Grundlage des vom Sä
 chsischen Landtag beschlossenen Haushaltes sowie mit Mitteln der UNO Flüc
 htlingshilfe.\n\n\n\n\n\n\n\n\n
ATTACH;FMTTYPE=image/jpeg:https://www.saechsischer-fluechtlingsrat.de/wp-c
 ontent/uploads/2025/08/MRMP-VA_900-web.png
CATEGORIES:Meine Rechte. Meine Perspektiven,Veranstaltung
LOCATION:colorido e. V.\, Dittrichplatz 8 \, Plauen\, 08523 \, Deutschland
X-APPLE-STRUCTURED-LOCATION;VALUE=URI;X-ADDRESS=Dittrichplatz 8 \, Plauen\,
  08523 \, Deutschland;X-APPLE-RADIUS=100;X-TITLE=colorido e. V.:geo:0,0
END:VEVENT
BEGIN:VTIMEZONE
TZID:Europe/Berlin
X-LIC-LOCATION:Europe/Berlin
BEGIN:STANDARD
DTSTART:20251026T020000
TZOFFSETFROM:+0200
TZOFFSETTO:+0100
TZNAME:CET
END:STANDARD
END:VTIMEZONE
END:VCALENDAR